BEGIN:VCALENDAR
VERSION:2.0
PRODID:-//Dementia Oxfordshire - ECPv6.15.20//NONSGML v1.0//EN
CALSCALE:GREGORIAN
METHOD:PUBLISH
X-ORIGINAL-URL:https://www.dementiaoxfordshire.org.uk
X-WR-CALDESC:Events for Dementia Oxfordshire
REFRESH-INTERVAL;VALUE=DURATION:PT1H
X-Robots-Tag:noindex
X-PUBLISHED-TTL:PT1H
BEGIN:VTIMEZONE
TZID:Europe/London
BEGIN:DAYLIGHT
TZOFFSETFROM:+0000
TZOFFSETTO:+0100
TZNAME:BST
DTSTART:20250330T010000
END:DAYLIGHT
BEGIN:STANDARD
TZOFFSETFROM:+0100
TZOFFSETTO:+0000
TZNAME:GMT
DTSTART:20251026T010000
END:STANDARD
BEGIN:DAYLIGHT
TZOFFSETFROM:+0000
TZOFFSETTO:+0100
TZNAME:BST
DTSTART:20260329T010000
END:DAYLIGHT
BEGIN:STANDARD
TZOFFSETFROM:+0100
TZOFFSETTO:+0000
TZNAME:GMT
DTSTART:20261025T010000
END:STANDARD
BEGIN:DAYLIGHT
TZOFFSETFROM:+0000
TZOFFSETTO:+0100
TZNAME:BST
DTSTART:20270328T010000
END:DAYLIGHT
BEGIN:STANDARD
TZOFFSETFROM:+0100
TZOFFSETTO:+0000
TZNAME:GMT
DTSTART:20271031T010000
END:STANDARD
END:VTIMEZONE
BEGIN:VEVENT
DTSTART;TZID=Europe/London:20260617T110000
DTEND;TZID=Europe/London:20260617T130000
DTSTAMP:20260422T150953
CREATED:20260408T114415Z
LAST-MODIFIED:20260408T122319Z
UID:10009905-1781694000-1781701200@www.dementiaoxfordshire.org.uk
SUMMARY:Active Minds: River Boat Cruise
DESCRIPTION:Our Active Minds group is for people with a dementia diagnosis who are keen to get out and about around the county. \nA different trip is planned for each month and are scheduled for different days each month\, so do check the calendar. \nThere is a cost for some activities and others are free. \n  \nWednesday 17th June \nRiver Boat Cruise \nOxford \nMore details to follow. \nPlease be aware that the time may change. \nFor more information and to book your space\, please contact Emily Gledhill on 07570 296874 or email emilygledhill@dementiaoxfordshire.org.uk
URL:https://www.dementiaoxfordshire.org.uk/event/active-minds-river-boat-cruise/
LOCATION:Folly Bridge\, OX1 4LB
ATTACH;FMTTYPE=image/png:https://www.dementiaoxfordshire.org.uk/wp-content/uploads/2026/04/river.png
GEO:51.7460337;-1.2561511
END:VEVENT
END:VCALENDAR