BEGIN:VCALENDAR
VERSION:2.0
PRODID:-//Dementia Oxfordshire - ECPv6.15.20//NONSGML v1.0//EN
CALSCALE:GREGORIAN
METHOD:PUBLISH
X-ORIGINAL-URL:https://www.dementiaoxfordshire.org.uk
X-WR-CALDESC:Events for Dementia Oxfordshire
REFRESH-INTERVAL;VALUE=DURATION:PT1H
X-Robots-Tag:noindex
X-PUBLISHED-TTL:PT1H
BEGIN:VTIMEZONE
TZID:Europe/London
BEGIN:DAYLIGHT
TZOFFSETFROM:+0000
TZOFFSETTO:+0100
TZNAME:BST
DTSTART:20250330T010000
END:DAYLIGHT
BEGIN:STANDARD
TZOFFSETFROM:+0100
TZOFFSETTO:+0000
TZNAME:GMT
DTSTART:20251026T010000
END:STANDARD
BEGIN:DAYLIGHT
TZOFFSETFROM:+0000
TZOFFSETTO:+0100
TZNAME:BST
DTSTART:20260329T010000
END:DAYLIGHT
BEGIN:STANDARD
TZOFFSETFROM:+0100
TZOFFSETTO:+0000
TZNAME:GMT
DTSTART:20261025T010000
END:STANDARD
BEGIN:DAYLIGHT
TZOFFSETFROM:+0000
TZOFFSETTO:+0100
TZNAME:BST
DTSTART:20270328T010000
END:DAYLIGHT
BEGIN:STANDARD
TZOFFSETFROM:+0100
TZOFFSETTO:+0000
TZNAME:GMT
DTSTART:20271031T010000
END:STANDARD
END:VTIMEZONE
BEGIN:VEVENT
DTSTART;TZID=Europe/London:20260513T140000
DTEND;TZID=Europe/London:20260513T160000
DTSTAMP:20260422T151657
CREATED:20251028T123150Z
LAST-MODIFIED:20251216T173338Z
UID:10007718-1778680800-1778688000@www.dementiaoxfordshire.org.uk
SUMMARY:Understanding dementia for informal carers – Oxford
DESCRIPTION:Do you want to have a better understanding of dementia? Then come along to our education session for informal carers. It’s a two-hour\, in-person session where you get to meet our team and ask the questions you want to know. \nThe session will cover three main topics: \n\nWhat is dementia?\nUnderstanding dementia – exploring topics in our ‘Understanding dementia’ booklet\nServices\, support\, and benefits.\n\nThere will be a separate space\, with activities\, for people living with dementia. \nYou must register to attend these sessions. To do so\, please book here or email education@dementiaoxfordshire.org.uk \nWe try to cover as much of the county as possible by offering these sessions in a different location each time. However\, if you’re struggling to make it\, please consider our online education session\, which we run every three months.
URL:https://www.dementiaoxfordshire.org.uk/event/understanding-dementia-for-informal-carers-oxford/
LOCATION:Brookfield Care House\, Little Bury\, Oxford\, OX4 7UY
CATEGORIES:Information sessions
ATTACH;FMTTYPE=image/jpeg:https://www.dementiaoxfordshire.org.uk/wp-content/uploads/2023/10/pexels-kampus-production-6838536-scaled.jpg
GEO:51.7186834;-1.188159
X-APPLE-STRUCTURED-LOCATION;VALUE=URI;X-ADDRESS=Brookfield Care House Little Bury Oxford OX4 7UY;X-APPLE-RADIUS=500;X-TITLE=Little Bury:geo:-1.188159,51.7186834
END:VEVENT
END:VCALENDAR