BEGIN:VCALENDAR
VERSION:2.0
PRODID:-//Dementia Oxfordshire - ECPv6.15.20//NONSGML v1.0//EN
CALSCALE:GREGORIAN
METHOD:PUBLISH
X-ORIGINAL-URL:https://www.dementiaoxfordshire.org.uk
X-WR-CALDESC:Events for Dementia Oxfordshire
REFRESH-INTERVAL;VALUE=DURATION:PT1H
X-Robots-Tag:noindex
X-PUBLISHED-TTL:PT1H
BEGIN:VTIMEZONE
TZID:Europe/London
BEGIN:DAYLIGHT
TZOFFSETFROM:+0000
TZOFFSETTO:+0100
TZNAME:BST
DTSTART:20250330T010000
END:DAYLIGHT
BEGIN:STANDARD
TZOFFSETFROM:+0100
TZOFFSETTO:+0000
TZNAME:GMT
DTSTART:20251026T010000
END:STANDARD
BEGIN:DAYLIGHT
TZOFFSETFROM:+0000
TZOFFSETTO:+0100
TZNAME:BST
DTSTART:20260329T010000
END:DAYLIGHT
BEGIN:STANDARD
TZOFFSETFROM:+0100
TZOFFSETTO:+0000
TZNAME:GMT
DTSTART:20261025T010000
END:STANDARD
BEGIN:DAYLIGHT
TZOFFSETFROM:+0000
TZOFFSETTO:+0100
TZNAME:BST
DTSTART:20270328T010000
END:DAYLIGHT
BEGIN:STANDARD
TZOFFSETFROM:+0100
TZOFFSETTO:+0000
TZNAME:GMT
DTSTART:20271031T010000
END:STANDARD
END:VTIMEZONE
BEGIN:VEVENT
DTSTART;TZID=Europe/London:20260402T103000
DTEND;TZID=Europe/London:20260402T120000
DTSTAMP:20260419T151939
CREATED:20260317T114208Z
LAST-MODIFIED:20260317T114208Z
UID:10009667-1775125800-1775131200@www.dementiaoxfordshire.org.uk
SUMMARY:Games & Gossip (Young onset)
DESCRIPTION:A social group for people to meet each other\, play games and have a good chat!  \nThe group runs on the 1st Thursday of every month\, from 10:30am – 12pm. \nFor more information or to let us know you’re coming\, please email youngonset@dementiaoxfordshire.org.uk
URL:https://www.dementiaoxfordshire.org.uk/event/games-gossip-young-onset/2026-04-02/
LOCATION:Blackbird Leys Leisure Centre\, Pegasus Road\, Blackbird Leys\, Oxfordshire\, OX4 6JL\, United Kingdom
CATEGORIES:Young onset support
GEO:51.7196289;-1.1974426
X-APPLE-STRUCTURED-LOCATION;VALUE=URI;X-ADDRESS=Blackbird Leys Leisure Centre Pegasus Road Blackbird Leys Oxfordshire OX4 6JL United Kingdom;X-APPLE-RADIUS=500;X-TITLE=Pegasus Road:geo:-1.1974426,51.7196289
END:VEVENT
END:VCALENDAR