BEGIN:VCALENDAR
VERSION:2.0
PRODID:-//Dementia Oxfordshire - ECPv6.15.20//NONSGML v1.0//EN
CALSCALE:GREGORIAN
METHOD:PUBLISH
X-WR-CALNAME:Dementia Oxfordshire
X-ORIGINAL-URL:https://www.dementiaoxfordshire.org.uk
X-WR-CALDESC:Events for Dementia Oxfordshire
REFRESH-INTERVAL;VALUE=DURATION:PT1H
X-Robots-Tag:noindex
X-PUBLISHED-TTL:PT1H
BEGIN:VTIMEZONE
TZID:Europe/London
BEGIN:DAYLIGHT
TZOFFSETFROM:+0000
TZOFFSETTO:+0100
TZNAME:BST
DTSTART:20250330T010000
END:DAYLIGHT
BEGIN:STANDARD
TZOFFSETFROM:+0100
TZOFFSETTO:+0000
TZNAME:GMT
DTSTART:20251026T010000
END:STANDARD
BEGIN:DAYLIGHT
TZOFFSETFROM:+0000
TZOFFSETTO:+0100
TZNAME:BST
DTSTART:20260329T010000
END:DAYLIGHT
BEGIN:STANDARD
TZOFFSETFROM:+0100
TZOFFSETTO:+0000
TZNAME:GMT
DTSTART:20261025T010000
END:STANDARD
BEGIN:DAYLIGHT
TZOFFSETFROM:+0000
TZOFFSETTO:+0100
TZNAME:BST
DTSTART:20270328T010000
END:DAYLIGHT
BEGIN:STANDARD
TZOFFSETFROM:+0100
TZOFFSETTO:+0000
TZNAME:GMT
DTSTART:20271031T010000
END:STANDARD
END:VTIMEZONE
BEGIN:VEVENT
DTSTART;TZID=Europe/London:20260527T100000
DTEND;TZID=Europe/London:20260527T130000
DTSTAMP:20260422T135337
CREATED:20260407T105032Z
LAST-MODIFIED:20260407T105032Z
UID:30298-1779876000-1779886800@www.dementiaoxfordshire.org.uk
SUMMARY:Connect and Thrive LIVE!
DESCRIPTION:A fantastic chance to find out how to live better with dementia! \nCome and discover new pastimes and hobbies – or reconnect with activities you have previously enjoyed! \nWhether you are interested in finding an art class\, a sports session\, a cinema club – or something else entirely\, come along and chat to a range of organisations and companies who offer a host of ways for people to continue to enjoy life\, even after a dementia diagnosis. \nTaster sessions will be running throughout the day\, and there will be refreshments and live music. \n  \n 
URL:https://www.dementiaoxfordshire.org.uk/event/connect-and-thrive-live/
LOCATION:Don Bosco Centre\, Hollow Way\, Cowley\, OX4 2ND\, United Kingdom
ATTACH;FMTTYPE=image/png:https://www.dementiaoxfordshire.org.uk/wp-content/uploads/2026/04/Connect-and-Thrive-Live.png
GEO:51.7364467;-1.2083658
X-APPLE-STRUCTURED-LOCATION;VALUE=URI;X-ADDRESS=Don Bosco Centre Hollow Way Cowley OX4 2ND United Kingdom;X-APPLE-RADIUS=500;X-TITLE=Hollow Way:geo:-1.2083658,51.7364467
END:VEVENT
END:VCALENDAR