BEGIN:VCALENDAR
VERSION:2.0
PRODID:-//Dementia Oxfordshire - ECPv6.15.20//NONSGML v1.0//EN
CALSCALE:GREGORIAN
METHOD:PUBLISH
X-WR-CALNAME:Dementia Oxfordshire
X-ORIGINAL-URL:https://www.dementiaoxfordshire.org.uk
X-WR-CALDESC:Events for Dementia Oxfordshire
REFRESH-INTERVAL;VALUE=DURATION:PT1H
X-Robots-Tag:noindex
X-PUBLISHED-TTL:PT1H
BEGIN:VTIMEZONE
TZID:Europe/London
BEGIN:DAYLIGHT
TZOFFSETFROM:+0000
TZOFFSETTO:+0100
TZNAME:BST
DTSTART:20270328T010000
END:DAYLIGHT
BEGIN:STANDARD
TZOFFSETFROM:+0100
TZOFFSETTO:+0000
TZNAME:GMT
DTSTART:20271031T010000
END:STANDARD
BEGIN:DAYLIGHT
TZOFFSETFROM:+0000
TZOFFSETTO:+0100
TZNAME:BST
DTSTART:20280326T010000
END:DAYLIGHT
BEGIN:STANDARD
TZOFFSETFROM:+0100
TZOFFSETTO:+0000
TZNAME:GMT
DTSTART:20281029T010000
END:STANDARD
BEGIN:DAYLIGHT
TZOFFSETFROM:+0000
TZOFFSETTO:+0100
TZNAME:BST
DTSTART:20290325T010000
END:DAYLIGHT
BEGIN:STANDARD
TZOFFSETFROM:+0100
TZOFFSETTO:+0000
TZNAME:GMT
DTSTART:20291028T010000
END:STANDARD
END:VTIMEZONE
BEGIN:VEVENT
DTSTART;TZID=Europe/London:20281018T103000
DTEND;TZID=Europe/London:20281018T120000
DTSTAMP:20260422T150953
CREATED:20260317T115139Z
LAST-MODIFIED:20260317T115139Z
UID:10009802-1855477800-1855483200@www.dementiaoxfordshire.org.uk
SUMMARY:Cinema Club (Young onset)
DESCRIPTION:Do come along to our new Cinema Club starting on Wednesday 15th April!  \nThis group runs every other month on the 3rd Wednesday from 10:30am – 12pm. \nFor more information or to let us know you’re coming\, please email youngonset@dementiaoxfordshire.org.uk
URL:https://www.dementiaoxfordshire.org.uk/event/cinema-club-young-onset/2028-10-18/
LOCATION:Lincroft Meadow Care Home\, The Moors\, Kidlington\, OX5 2AA
CATEGORIES:Young onset support
GEO:51.8301896;-1.2985365
X-APPLE-STRUCTURED-LOCATION;VALUE=URI;X-ADDRESS=Lincroft Meadow Care Home The Moors Kidlington OX5 2AA;X-APPLE-RADIUS=500;X-TITLE=The Moors:geo:-1.2985365,51.8301896
END:VEVENT
END:VCALENDAR