BEGIN:VCALENDAR
VERSION:2.0
PRODID:-//Dementia Oxfordshire - ECPv6.15.20//NONSGML v1.0//EN
CALSCALE:GREGORIAN
METHOD:PUBLISH
X-WR-CALNAME:Dementia Oxfordshire
X-ORIGINAL-URL:https://www.dementiaoxfordshire.org.uk
X-WR-CALDESC:Events for Dementia Oxfordshire
REFRESH-INTERVAL;VALUE=DURATION:PT1H
X-Robots-Tag:noindex
X-PUBLISHED-TTL:PT1H
BEGIN:VTIMEZONE
TZID:Europe/London
BEGIN:DAYLIGHT
TZOFFSETFROM:+0000
TZOFFSETTO:+0100
TZNAME:BST
DTSTART:20250330T010000
END:DAYLIGHT
BEGIN:STANDARD
TZOFFSETFROM:+0100
TZOFFSETTO:+0000
TZNAME:GMT
DTSTART:20251026T010000
END:STANDARD
BEGIN:DAYLIGHT
TZOFFSETFROM:+0000
TZOFFSETTO:+0100
TZNAME:BST
DTSTART:20260329T010000
END:DAYLIGHT
BEGIN:STANDARD
TZOFFSETFROM:+0100
TZOFFSETTO:+0000
TZNAME:GMT
DTSTART:20261025T010000
END:STANDARD
BEGIN:DAYLIGHT
TZOFFSETFROM:+0000
TZOFFSETTO:+0100
TZNAME:BST
DTSTART:20270328T010000
END:DAYLIGHT
BEGIN:STANDARD
TZOFFSETFROM:+0100
TZOFFSETTO:+0000
TZNAME:GMT
DTSTART:20271031T010000
END:STANDARD
END:VTIMEZONE
BEGIN:VEVENT
DTSTART;TZID=Europe/London:20260721T120000
DTEND;TZID=Europe/London:20260721T130000
DTSTAMP:20260422T135406
CREATED:20260408T115122Z
LAST-MODIFIED:20260408T120716Z
UID:30321-1784635200-1784638800@www.dementiaoxfordshire.org.uk
SUMMARY:Active Minds: Inclusive Cycling with Cyclability
DESCRIPTION:Our Active Minds group is for people with a dementia diagnosis who are keen to get out and about around the county. \nA different trip is planned for each month and are scheduled for different days each month\, so do check the calendar. \nThere is a cost for some activities and others are free. \n  \nTuesday 21st July 12noon – 1pm.  \nInclusive Cycling with Cyclability \nAthletic Track and Sports Ground\, Horspath Road\, Oxford OX4 2RR \nCyclability is an Oxford based charity that offers a safe\, inclusive cycling experience for all ages and abilities. With a huge range of adapted bicycles and tricycles\, there is something for everyone. \n£6 per person\, includes drink and biscuit afterwards. \nFor more information and to book your space\, please contact Emily Gledhill on 07570 296874 or email emilygledhill@dementiaoxfordshire.org.uk
URL:https://www.dementiaoxfordshire.org.uk/event/active-minds-inclusive-cycling-with-cyclability/
LOCATION:Cyclability\, Horspath Road\, Oxford\, OX4 2RR\, United Kingdom
ATTACH;FMTTYPE=image/jpeg:https://www.dementiaoxfordshire.org.uk/wp-content/uploads/2024/05/JudeandMandycropped-scaled.jpg
GEO:51.7362624;-1.1890957
X-APPLE-STRUCTURED-LOCATION;VALUE=URI;X-ADDRESS=Cyclability Horspath Road Oxford OX4 2RR United Kingdom;X-APPLE-RADIUS=500;X-TITLE=Horspath Road:geo:-1.1890957,51.7362624
END:VEVENT
END:VCALENDAR